BEGIN:VCALENDAR
VERSION:2.0
PRODID:-//Aura Imaging - ECPv6.15.20//NONSGML v1.0//EN
CALSCALE:GREGORIAN
METHOD:PUBLISH
X-ORIGINAL-URL:https://auraimaging.co.uk
X-WR-CALDESC:Events for Aura Imaging
REFRESH-INTERVAL;VALUE=DURATION:PT1H
X-Robots-Tag:noindex
X-PUBLISHED-TTL:PT1H
BEGIN:VTIMEZONE
TZID:Europe/London
BEGIN:DAYLIGHT
TZOFFSETFROM:+0000
TZOFFSETTO:+0100
TZNAME:BST
DTSTART:20170326T010000
END:DAYLIGHT
BEGIN:STANDARD
TZOFFSETFROM:+0100
TZOFFSETTO:+0000
TZNAME:GMT
DTSTART:20171029T010000
END:STANDARD
BEGIN:DAYLIGHT
TZOFFSETFROM:+0000
TZOFFSETTO:+0100
TZNAME:BST
DTSTART:20180325T010000
END:DAYLIGHT
BEGIN:STANDARD
TZOFFSETFROM:+0100
TZOFFSETTO:+0000
TZNAME:GMT
DTSTART:20181028T010000
END:STANDARD
BEGIN:DAYLIGHT
TZOFFSETFROM:+0000
TZOFFSETTO:+0100
TZNAME:BST
DTSTART:20190331T010000
END:DAYLIGHT
BEGIN:STANDARD
TZOFFSETFROM:+0100
TZOFFSETTO:+0000
TZNAME:GMT
DTSTART:20191027T010000
END:STANDARD
END:VTIMEZONE
BEGIN:VEVENT
DTSTART;TZID=Europe/London:20181201T110000
DTEND;TZID=Europe/London:20181201T170000
DTSTAMP:20260421T135055
CREATED:20180916T135110Z
LAST-MODIFIED:20181031T071821Z
UID:465-1543662000-1543683600@auraimaging.co.uk
SUMMARY:Gloucester Mind Body & Spirit Fayre
DESCRIPTION:  \n  \n \nTHE GLOUCESTER MIND BODY SPIRIT SHOW \nSPIRITUALITY\, SELF-HELP\, WELLBEING\, HEALING\, MINDFULNESS\, PHILOSOPHY\, SCIENCE\, HOLISTIC AND ALTERNATIVE THERAPIES\, PAGANISM\, PSYCHICS\, MEDIUMS AND CLAIRVOYANTS\, AURA IMAGING\, HEALTHY LIVING/EATING\, MOVEMENT AND DANCE\, MASSAGE\, THE PARANORMAL\, BEAUTY \, CRYSTALS\, ART\, CRAFTS AND OTHER SPIRITUAL CHRISTMAS GIFTS. \n• WIDE RANGE OF AUTHENTIC EXHIBITORS\n• INSPIRATIONAL SPEAKERS\n• FREE TALKS\, WORKSHOPS AND DEMOS \n• POSITIVE ENERGY AND GOOD VIBES! \nThe Gloucester Mind Body Spirit Show is back at the Gloucester Guildhall\, on Saturday 1st December for a whole day of holistic and spiritual merriment. \nDoors open at 11 am and the show features a main exhibition from 11am until 5pm and free talks\, demonstrations and workshops from 1pm – to 7.30pm. \nThe show concludes with a real treat. Matthew Manning\, the world famous healer will talk about his life in healing and how he had his healing abilities scientifically tested. Manning will also demonstrate his healing process with an audience member. He’ll be on stage from 7.30 – 10 pm. \nFREE TALKS AND WORKSHOPS \n1– 2pm: Nia – a mind and body physical conditioning programme combining martial arts\, modern dance\, arts\, yoga\, music: Claire Lewis \n2.10 -2.40 From Victim to Victor Lynn Jones: author and life coach \n2.50 – 3.30 Powerful Vision. Powerful You. Why aren’t we all living the life we deserve? Or maybe we are… Nicky Marshall: author\, speaker mentor \n3.45 – 4.45 Spiritual Atheism. Heal old traumas\, change out-dated habits\, and step up as transformational leaders at work and in society. Nick Jankel\, bestselling author award-winning scientist and the founder of http://switchonnow.com/ \n5.00 – 6pm: gong bath and singing bowl workshop: Kuma San \n5.20 – 7pm: Way of the Wyrd: John Odinsson Dyke\n5. 20 – 7pm: The Unicorn Workshop with author Michelle Gordon\n5. 20 – 7pm: Readings with Spiritual Medium Steve Howell.\n5.20 – 7pm: Understanding your energy\, aura and chakras by dowsing and muscle testing\, an interactive participatory workshop. Mark Harris\n6.15 – 7.15 Paranormal Gloucestershire: Gloucester Paranormal Investigations.
URL:https://auraimaging.co.uk/event/gloucester-mind-body-spirit-fayre/
LOCATION:Gloucester Guildhall\, 23 Eastgate St\, Gloucester\, GL1 1NS\, United Kingdom
ATTACH;FMTTYPE=image/jpeg:https://auraimaging.co.uk/wp-content/uploads/2018/07/Guildhall-Gloc.jpg
END:VEVENT
END:VCALENDAR