BEGIN:VCALENDAR
VERSION:2.0
PRODID:-//Aura Imaging - ECPv6.15.20//NONSGML v1.0//EN
CALSCALE:GREGORIAN
METHOD:PUBLISH
X-WR-CALNAME:Aura Imaging
X-ORIGINAL-URL:https://auraimaging.co.uk
X-WR-CALDESC:Events for Aura Imaging
REFRESH-INTERVAL;VALUE=DURATION:PT1H
X-Robots-Tag:noindex
X-PUBLISHED-TTL:PT1H
BEGIN:VTIMEZONE
TZID:Europe/London
BEGIN:DAYLIGHT
TZOFFSETFROM:+0000
TZOFFSETTO:+0100
TZNAME:BST
DTSTART:20170326T010000
END:DAYLIGHT
BEGIN:STANDARD
TZOFFSETFROM:+0100
TZOFFSETTO:+0000
TZNAME:GMT
DTSTART:20171029T010000
END:STANDARD
BEGIN:DAYLIGHT
TZOFFSETFROM:+0000
TZOFFSETTO:+0100
TZNAME:BST
DTSTART:20180325T010000
END:DAYLIGHT
BEGIN:STANDARD
TZOFFSETFROM:+0100
TZOFFSETTO:+0000
TZNAME:GMT
DTSTART:20181028T010000
END:STANDARD
BEGIN:DAYLIGHT
TZOFFSETFROM:+0000
TZOFFSETTO:+0100
TZNAME:BST
DTSTART:20190331T010000
END:DAYLIGHT
BEGIN:STANDARD
TZOFFSETFROM:+0100
TZOFFSETTO:+0000
TZNAME:GMT
DTSTART:20191027T010000
END:STANDARD
END:VTIMEZONE
BEGIN:VEVENT
DTSTART;TZID=Europe/London:20181111T100000
DTEND;TZID=Europe/London:20181111T160000
DTSTAMP:20260421T150948
CREATED:20181007T074659Z
LAST-MODIFIED:20181007T074659Z
UID:357-1541930400-1541952000@auraimaging.co.uk
SUMMARY:Brackley Mind Body & Spirit Fayre
DESCRIPTION:Soul Finders are hosting another Psychic & Holistic Fayre at Brackley Town Football Club\, Churchill Way Brackley NN13 7DZ \nWe have some brilliant Tarot Readers\, Angel Card Reader\, Mediumship and lots more for you to choose from. They are all exceptional in their own field. \nLoads of fab stalls selling an array of wonderful items for you to get some more Xmas shopping done or just for yourself. \nWe have a selection of Therapists offering Tibetan Massage\, Swedish Body Massage\, Indian Head Massage\, Reiki\, Bowen\, Reflexology and more the choice is yours. \nThis is really a wonderful Magickal day\nPlease do come and join us \n£2 entrance fee\, children are free \n 
URL:https://auraimaging.co.uk/event/brackley-mind-body-spirit-fayre/
LOCATION:Brackley FC\, Churchill Way\, Brackley\, NN13 7DZ\, United Kingdom
ATTACH;FMTTYPE=image/jpeg:https://auraimaging.co.uk/wp-content/uploads/2018/07/st-james-park17395l.jpg
ORGANIZER;CN="Soul Finders":MAILTO:sallymitchell1217@gmail.com
END:VEVENT
END:VCALENDAR