BEGIN:VCALENDAR
VERSION:2.0
PRODID:-//Aura Imaging - ECPv6.15.20//NONSGML v1.0//EN
CALSCALE:GREGORIAN
METHOD:PUBLISH
X-ORIGINAL-URL:https://auraimaging.co.uk
X-WR-CALDESC:Events for Aura Imaging
REFRESH-INTERVAL;VALUE=DURATION:PT1H
X-Robots-Tag:noindex
X-PUBLISHED-TTL:PT1H
BEGIN:VTIMEZONE
TZID:Europe/London
BEGIN:DAYLIGHT
TZOFFSETFROM:+0000
TZOFFSETTO:+0100
TZNAME:BST
DTSTART:20170326T010000
END:DAYLIGHT
BEGIN:STANDARD
TZOFFSETFROM:+0100
TZOFFSETTO:+0000
TZNAME:GMT
DTSTART:20171029T010000
END:STANDARD
BEGIN:DAYLIGHT
TZOFFSETFROM:+0000
TZOFFSETTO:+0100
TZNAME:BST
DTSTART:20180325T010000
END:DAYLIGHT
BEGIN:STANDARD
TZOFFSETFROM:+0100
TZOFFSETTO:+0000
TZNAME:GMT
DTSTART:20181028T010000
END:STANDARD
BEGIN:DAYLIGHT
TZOFFSETFROM:+0000
TZOFFSETTO:+0100
TZNAME:BST
DTSTART:20190331T010000
END:DAYLIGHT
BEGIN:STANDARD
TZOFFSETFROM:+0100
TZOFFSETTO:+0000
TZNAME:GMT
DTSTART:20191027T010000
END:STANDARD
END:VTIMEZONE
BEGIN:VEVENT
DTSTART;TZID=Europe/London:20181104T100000
DTEND;TZID=Europe/London:20181104T170000
DTSTAMP:20260421T151020
CREATED:20180719T064739Z
LAST-MODIFIED:20180719T064739Z
UID:337-1541325600-1541350800@auraimaging.co.uk
SUMMARY:Witney Mind Body & Spirit
DESCRIPTION:The Witney Psychic\, Mystic & Wellbeing Fayres have been running since 2006 and have proved to be very popular. Visitors travel many miles for our Fayres and we are always pleased to welcome new stallholders and new visitors. \nThe Fayres bring you the opportunity to meet and experience taster treatments with top therapists\, readings from trusted and proven psychics\, mediums\, tarot readers\, angel card readers\, palmists and crystals ball readers. There are always a number of stalls selling unusual gifts and items\, related to spirituality and designed to interest you\, along with a very popular Aura Camera for aura readings. \nWe charge an entry fee of £2.00 per adult\, there is plenty of free parking. Refreshments\, light lunches and cakes available for you to purchase from the Lakes own bar/lounge.
URL:https://auraimaging.co.uk/event/witney-mind-body-spirit/
LOCATION:Witney Lakes Resort\, Downs Rd\, Witney\, OX29 0SY\, United Kingdom
ATTACH;FMTTYPE=image/png:https://auraimaging.co.uk/wp-content/uploads/2018/07/Witney-Lakes.png
ORGANIZER;CN="Thirdeyeworkshops":MAILTO:infothirdeyeworkshops@gmail.com
END:VEVENT
END:VCALENDAR