BEGIN:VCALENDAR
VERSION:2.0
PRODID:-//Aura Imaging - ECPv6.15.20//NONSGML v1.0//EN
CALSCALE:GREGORIAN
METHOD:PUBLISH
X-WR-CALNAME:Aura Imaging
X-ORIGINAL-URL:https://auraimaging.co.uk
X-WR-CALDESC:Events for Aura Imaging
REFRESH-INTERVAL;VALUE=DURATION:PT1H
X-Robots-Tag:noindex
X-PUBLISHED-TTL:PT1H
BEGIN:VTIMEZONE
TZID:Europe/London
BEGIN:DAYLIGHT
TZOFFSETFROM:+0000
TZOFFSETTO:+0100
TZNAME:BST
DTSTART:20170326T010000
END:DAYLIGHT
BEGIN:STANDARD
TZOFFSETFROM:+0100
TZOFFSETTO:+0000
TZNAME:GMT
DTSTART:20171029T010000
END:STANDARD
BEGIN:DAYLIGHT
TZOFFSETFROM:+0000
TZOFFSETTO:+0100
TZNAME:BST
DTSTART:20180325T010000
END:DAYLIGHT
BEGIN:STANDARD
TZOFFSETFROM:+0100
TZOFFSETTO:+0000
TZNAME:GMT
DTSTART:20181028T010000
END:STANDARD
BEGIN:DAYLIGHT
TZOFFSETFROM:+0000
TZOFFSETTO:+0100
TZNAME:BST
DTSTART:20190331T010000
END:DAYLIGHT
BEGIN:STANDARD
TZOFFSETFROM:+0100
TZOFFSETTO:+0000
TZNAME:GMT
DTSTART:20191027T010000
END:STANDARD
END:VTIMEZONE
BEGIN:VEVENT
DTSTART;TZID=Europe/London:20181103T100000
DTEND;TZID=Europe/London:20181103T160000
DTSTAMP:20260421T150948
CREATED:20180910T080513Z
LAST-MODIFIED:20181007T073556Z
UID:344-1541239200-1541260800@auraimaging.co.uk
SUMMARY:Hazlemere Tipi Spirit Fayre
DESCRIPTION:  \n \n  \n\nHi everyone – this is a day for the general public to attend a wonderful day of complementary therapy.\nOur dream is to create a bridge between the NHS and complementary medicine so people can have choices for wellness\, along with promoting small businesses to shine locally!\n\n\n\n\n\nFree wellness workshops will be running  – these start from 10:45 and run for approximately  40 minutes.\n\n\n\n\nWe have over 25 stall holders offering treatments\, reiki\, energy work – sign up to learning about Reiki courses\,  beautiful unique spiritual craft\, medium\, aura photography\, jewellery\, crystals\, Shamanic work\, NZ fern/tree/seed/plant/healer and shamanic essences\,  100% CPTG essential oils and more! \n\n\n\n\nWe have a mobile coffee man coming and a healthy food – falafels\, salad and home-made dressings coming too!.\nCome and buy some healthy gifts for your family too!
URL:https://auraimaging.co.uk/event/hazlemere-tipi-spirit-fayre/
LOCATION:Hazlemere Community Centre\, Rose Avenue\, Hazlemere\, HP15 7UB\, United Kingdom
ATTACH;FMTTYPE=image/jpeg:https://auraimaging.co.uk/wp-content/uploads/2018/07/Hazlemere-comm-cntr.jpg
END:VEVENT
END:VCALENDAR