BEGIN:VCALENDAR
VERSION:2.0
PRODID:-//Aura Imaging - ECPv6.15.20//NONSGML v1.0//EN
CALSCALE:GREGORIAN
METHOD:PUBLISH
X-ORIGINAL-URL:https://auraimaging.co.uk
X-WR-CALDESC:Events for Aura Imaging
REFRESH-INTERVAL;VALUE=DURATION:PT1H
X-Robots-Tag:noindex
X-PUBLISHED-TTL:PT1H
BEGIN:VTIMEZONE
TZID:Europe/London
BEGIN:DAYLIGHT
TZOFFSETFROM:+0000
TZOFFSETTO:+0100
TZNAME:BST
DTSTART:20170326T010000
END:DAYLIGHT
BEGIN:STANDARD
TZOFFSETFROM:+0100
TZOFFSETTO:+0000
TZNAME:GMT
DTSTART:20171029T010000
END:STANDARD
BEGIN:DAYLIGHT
TZOFFSETFROM:+0000
TZOFFSETTO:+0100
TZNAME:BST
DTSTART:20180325T010000
END:DAYLIGHT
BEGIN:STANDARD
TZOFFSETFROM:+0100
TZOFFSETTO:+0000
TZNAME:GMT
DTSTART:20181028T010000
END:STANDARD
BEGIN:DAYLIGHT
TZOFFSETFROM:+0000
TZOFFSETTO:+0100
TZNAME:BST
DTSTART:20190331T010000
END:DAYLIGHT
BEGIN:STANDARD
TZOFFSETFROM:+0100
TZOFFSETTO:+0000
TZNAME:GMT
DTSTART:20191027T010000
END:STANDARD
END:VTIMEZONE
BEGIN:VEVENT
DTSTART;TZID=Europe/London:20181028T100000
DTEND;TZID=Europe/London:20181028T160000
DTSTAMP:20260421T163843
CREATED:20180902T154811Z
LAST-MODIFIED:20180919T202308Z
UID:480-1540720800-1540742400@auraimaging.co.uk
SUMMARY:Three Counties Mind\, Body & Spirit Show
DESCRIPTION:Description\nThree Counties Hotel – Hereford\n28th October 2018\n10am – 4pm\nFree Talks throughout the day. \nComplimentary Therapies |  Natural Products  |  Spiritual Services  |  Arts & Crafts \nCrystals\, Reiki\, Access Consciousness\, Massage\, Yoga\,  Local Therapy Centres\, Hypnotherapy\, Vedic Astrology\, Spiritual Art\, Indian Head Massage\, Palmistry\, Cancer Support Charity\, Tarot\, Auraimaging\, Reflexology\, Books\, Yotism\, Psychic Surgery\, Kinesiology\, Reset-TMJ\, Access Bars\, Counselling\, Ayurveda\, Essential Oils\, Natural Skin Care\, Access Facelift\, Bee products\, Supplements\, Allergy Testing\, Holistic Therapy\, Psychic Art\, Local Therapists\, Personalised Crystal Healing Jewellery\, Spiritual Healers\, Mediums\, Plant Spirit Healing and so much more! \nHow does it get any better than this? What else might be possible?
URL:https://auraimaging.co.uk/event/three-counties-mind-body-spirit-show/
LOCATION:Three Counties Hotel\, Belmont Rd.\, Hereford\, HR2 7BP\, United Kingdom
ATTACH;FMTTYPE=image/jpeg:https://auraimaging.co.uk/wp-content/uploads/2018/09/3-Counties.jpg
ORGANIZER;CN="Rachel Peacock":MAILTO:peacockmbsevents@gmail.com
END:VEVENT
END:VCALENDAR